{
 "currentVersion": 10.8,
 "cimVersion": "2.8.0",
 "serviceDescription": "",
 "mapName": "Map",
 "description": "",
 "copyrightText": "",
 "supportsDynamicLayers": false,
 "layers": [
  {
   "id": 0,
   "name": "Pinellas_DEM_ft",
   "parentLayerId": -1,
   "defaultVisibility": true,
   "subLayerIds": null,
   "minScale": 0,
   "maxScale": 0,
   "type": "Raster Layer",
   "supportsDynamicLegends": true
  }
 ],
 "tables": [],
 "spatialReference": {
  "wkt": "PROJCS[\"NAD_1983_HARN_Albers\",GEOGCS[\"GCS_North_American_1983_HARN\",DATUM[\"D_North_American_1983_HARN\",SPHEROID[\"GRS_1980\",6378137.0,298.257222101]],PRIMEM[\"Greenwich\",0.0],UNIT[\"Degree\",0.0174532925199433]],PROJECTION[\"Albers\"],PARAMETER[\"False_Easting\",400000.0],PARAMETER[\"False_Northing\",0.0],PARAMETER[\"Central_Meridian\",-84.0],PARAMETER[\"Standard_Parallel_1\",24.0],PARAMETER[\"Standard_Parallel_2\",31.5],PARAMETER[\"Latitude_Of_Origin\",24.0],UNIT[\"Meter\",1.0]]",
  "xyTolerance": 0.001,
  "zTolerance": 0.001,
  "mTolerance": 0.001,
  "falseX": -19550100,
  "falseY": -7526400,
  "xyUnits": 10000,
  "falseZ": -100000,
  "zUnits": 10000,
  "falseM": -100000,
  "mUnits": 10000
 },
 "singleFusedMapCache": true,
 "tileInfo": {
  "rows": 256,
  "cols": 256,
  "dpi": 96,
  "format": "Mixed",
  "compressionQuality": 75,
  "origin": {
   "x": -1.9549964486831754E7,
   "y": 2.2054949931446366E7
  },
  "spatialReference": {
   "wkt": "PROJCS[\"NAD_1983_HARN_Albers\",GEOGCS[\"GCS_North_American_1983_HARN\",DATUM[\"D_North_American_1983_HARN\",SPHEROID[\"GRS_1980\",6378137.0,298.257222101]],PRIMEM[\"Greenwich\",0.0],UNIT[\"Degree\",0.0174532925199433]],PROJECTION[\"Albers\"],PARAMETER[\"False_Easting\",400000.0],PARAMETER[\"False_Northing\",0.0],PARAMETER[\"Central_Meridian\",-84.0],PARAMETER[\"Standard_Parallel_1\",24.0],PARAMETER[\"Standard_Parallel_2\",31.5],PARAMETER[\"Latitude_Of_Origin\",24.0],UNIT[\"Meter\",1.0]]",
   "xyTolerance": 0.001,
   "zTolerance": 0.001,
   "mTolerance": 0.001,
   "falseX": -19550100,
   "falseY": -7526400,
   "xyUnits": 10000,
   "falseZ": -100000,
   "zUnits": 10000,
   "falseM": -100000,
   "mUnits": 10000
  },
  "lods": [
   {
    "level": 0,
    "resolution": 155859.0975533732,
    "scale": 5.890737545324341E8
   },
   {
    "level": 1,
    "resolution": 77929.5487766866,
    "scale": 2.9453687726621705E8
   },
   {
    "level": 2,
    "resolution": 38964.7743883433,
    "scale": 1.4726843863310853E8
   },
   {
    "level": 3,
    "resolution": 19482.38719417165,
    "scale": 7.363421931655426E7
   },
   {
    "level": 4,
    "resolution": 9741.193597085825,
    "scale": 3.681710965827713E7
   },
   {
    "level": 5,
    "resolution": 4870.596798542912,
    "scale": 1.8408554829138566E7
   },
   {
    "level": 6,
    "resolution": 2435.298399271456,
    "scale": 9204277.414569283
   },
   {
    "level": 7,
    "resolution": 1217.649199635728,
    "scale": 4602138.707284641
   },
   {
    "level": 8,
    "resolution": 608.824599817864,
    "scale": 2301069.3536423207
   },
   {
    "level": 9,
    "resolution": 304.412299908932,
    "scale": 1150534.6768211604
   },
   {
    "level": 10,
    "resolution": 152.206149954466,
    "scale": 575267.3384105802
   },
   {
    "level": 11,
    "resolution": 76.103074977233,
    "scale": 287633.6692052901
   },
   {
    "level": 12,
    "resolution": 38.0515374886165,
    "scale": 143816.83460264505
   },
   {
    "level": 13,
    "resolution": 19.02576874430825,
    "scale": 71908.41730132252
   },
   {
    "level": 14,
    "resolution": 9.512884372154126,
    "scale": 35954.20865066126
   },
   {
    "level": 15,
    "resolution": 4.756442186077063,
    "scale": 17977.10432533063
   },
   {
    "level": 16,
    "resolution": 2.3782210930385315,
    "scale": 8988.552162665315
   },
   {
    "level": 17,
    "resolution": 1.1891105465192657,
    "scale": 4494.276081332658
   },
   {
    "level": 18,
    "resolution": 0.5945552732596329,
    "scale": 2247.138040666329
   }
  ]
 },
 "initialExtent": {
  "xmin": 492167.5629876881,
  "ymin": 397821.7139394843,
  "xmax": 558486.8218151313,
  "ymax": 467048.1183593635,
  "spatialReference": {
   "wkt": "PROJCS[\"NAD_1983_HARN_Albers\",GEOGCS[\"GCS_North_American_1983_HARN\",DATUM[\"D_North_American_1983_HARN\",SPHEROID[\"GRS_1980\",6378137.0,298.257222101]],PRIMEM[\"Greenwich\",0.0],UNIT[\"Degree\",0.0174532925199433]],PROJECTION[\"Albers\"],PARAMETER[\"False_Easting\",400000.0],PARAMETER[\"False_Northing\",0.0],PARAMETER[\"Central_Meridian\",-84.0],PARAMETER[\"Standard_Parallel_1\",24.0],PARAMETER[\"Standard_Parallel_2\",31.5],PARAMETER[\"Latitude_Of_Origin\",24.0],UNIT[\"Meter\",1.0]]",
   "xyTolerance": 0.001,
   "zTolerance": 0.001,
   "mTolerance": 0.001,
   "falseX": -19550100,
   "falseY": -7526400,
   "xyUnits": 10000,
   "falseZ": -100000,
   "zUnits": 10000,
   "falseM": -100000,
   "mUnits": 10000
  }
 },
 "fullExtent": {
  "xmin": 506901.2367438104,
  "ymin": 400968.36868584255,
  "xmax": 543753.148059009,
  "ymax": 463901.46361300536,
  "spatialReference": {
   "wkt": "PROJCS[\"NAD_1983_HARN_Albers\",GEOGCS[\"GCS_North_American_1983_HARN\",DATUM[\"D_North_American_1983_HARN\",SPHEROID[\"GRS_1980\",6378137.0,298.257222101]],PRIMEM[\"Greenwich\",0.0],UNIT[\"Degree\",0.0174532925199433]],PROJECTION[\"Albers\"],PARAMETER[\"False_Easting\",400000.0],PARAMETER[\"False_Northing\",0.0],PARAMETER[\"Central_Meridian\",-84.0],PARAMETER[\"Standard_Parallel_1\",24.0],PARAMETER[\"Standard_Parallel_2\",31.5],PARAMETER[\"Latitude_Of_Origin\",24.0],UNIT[\"Meter\",1.0]]",
   "xyTolerance": 0.001,
   "zTolerance": 0.001,
   "mTolerance": 0.001,
   "falseX": -19550100,
   "falseY": -7526400,
   "xyUnits": 10000,
   "falseZ": -100000,
   "zUnits": 10000,
   "falseM": -100000,
   "mUnits": 10000
  }
 },
 "units": "esriMeters",
 "supportedImageFormatTypes": "PNG32,PNG24,PNG,JPG,DIB,TIFF,EMF,PS,PDF,GIF,SVG,SVGZ,BMP",
 "documentInfo": {
  "Title": "Map",
  "Author": "",
  "Comments": "",
  "Subject": "",
  "Category": "",
  "AntialiasingMode": "Fast",
  "TextAntialiasingMode": "Force",
  "Version": "2.8.0",
  "Keywords": ""
 },
 "supportedQueryFormats": "JSON, geoJSON, PBF",
 "referenceScale": 0.0,
 "datumTransformations": [
  {
   "geoTransforms": [
    {
     "wkid": 1580,
     "latestWkid": 1580,
     "transformForward": false,
     "name": "NAD_1983_HARN_To_WGS_1984"
    }
   ]
  },
  {
   "geoTransforms": [
    {
     "wkid": 1580,
     "latestWkid": 1580,
     "transformForward": true,
     "name": "NAD_1983_HARN_To_WGS_1984"
    }
   ]
  }
 ],
 "supportsDatumTransformation": true,
 "archivingInfo": {
  "supportsHistoricMoment": false
 },
 "supportsClipping": true,
 "supportsSpatialFilter": true,
 "supportsTimeRelation": true,
 "supportsQueryDataElements": true,
 "maxRecordCount": 1000,
 "maxImageHeight": 4096,
 "maxImageWidth": 4096,
 "capabilities": "TilesOnly,Tilemap",
 "minScale": 2.9453687726621705E8,
 "maxScale": 9204277.414569283,
 "exportTilesAllowed": false,
 "maxExportTilesCount": 100000,
 "supportedExtensions": ""
}
