View In:
ArcGIS JavaScript
ArcGIS Online Map Viewer
ArcGIS Earth
ArcMap
ArcGIS Pro
View Footprint In:
ArcGIS Online Map Viewer
Service Description:
Map Name: Map
Legend
All Layers and Tables
Layers:
Description:
Copyright Text:
Spatial Reference:
PROJCS["NAD_1983_HARN_Albers",GEOGCS["GCS_North_American_1983_HARN",DATUM["D_North_American_1983_HARN",SPHEROID["GRS_1980",6378137.0,298.257222101]],PRIMEM["Greenwich",0.0],UNIT["Degree",0.0174532925199433]],PROJECTION["Albers"],PARAMETER["False_Easting",400000.0],PARAMETER["False_Northing",0.0],PARAMETER["Central_Meridian",-84.0],PARAMETER["Standard_Parallel_1",24.0],PARAMETER["Standard_Parallel_2",31.5],PARAMETER["Latitude_Of_Origin",24.0],UNIT["Meter",1.0]]
Single Fused Map Cache: true
Tile Info:
- Height: 256
- Width: 256
- DPI: 96
-
Levels of Detail: 19
-
Level ID: 0
[ Start Tile, End Tile ]
- Resolution: 155859.0975533732
- Scale: 5.890737545324341E8
-
Level ID: 1
[ Start Tile, End Tile ]
- Resolution: 77929.5487766866
- Scale: 2.9453687726621705E8
-
Level ID: 2
[ Start Tile, End Tile ]
- Resolution: 38964.7743883433
- Scale: 1.4726843863310853E8
-
Level ID: 3
[ Start Tile, End Tile ]
- Resolution: 19482.38719417165
- Scale: 7.363421931655426E7
-
Level ID: 4
[ Start Tile, End Tile ]
- Resolution: 9741.193597085825
- Scale: 3.681710965827713E7
-
Level ID: 5
[ Start Tile, End Tile ]
- Resolution: 4870.596798542912
- Scale: 1.8408554829138566E7
-
Level ID: 6
[ Start Tile, End Tile ]
- Resolution: 2435.298399271456
- Scale: 9204277.414569283
-
Level ID: 7
[ Start Tile, End Tile ]
- Resolution: 1217.649199635728
- Scale: 4602138.707284641
-
Level ID: 8
[ Start Tile, End Tile ]
- Resolution: 608.824599817864
- Scale: 2301069.3536423207
-
Level ID: 9
[ Start Tile, End Tile ]
- Resolution: 304.412299908932
- Scale: 1150534.6768211604
-
Level ID: 10
[ Start Tile, End Tile ]
- Resolution: 152.206149954466
- Scale: 575267.3384105802
-
Level ID: 11
[ Start Tile, End Tile ]
- Resolution: 76.103074977233
- Scale: 287633.6692052901
-
Level ID: 12
[ Start Tile, End Tile ]
- Resolution: 38.0515374886165
- Scale: 143816.83460264505
-
Level ID: 13
[ Start Tile, End Tile ]
- Resolution: 19.02576874430825
- Scale: 71908.41730132252
-
Level ID: 14
[ Start Tile, End Tile ]
- Resolution: 9.512884372154126
- Scale: 35954.20865066126
-
Level ID: 15
[ Start Tile, End Tile ]
- Resolution: 4.756442186077063
- Scale: 17977.10432533063
-
Level ID: 16
[ Start Tile, End Tile ]
- Resolution: 2.3782210930385315
- Scale: 8988.552162665315
-
Level ID: 17
[ Start Tile, End Tile ]
- Resolution: 1.1891105465192657
- Scale: 4494.276081332658
-
Level ID: 18
[ Start Tile, End Tile ]
- Resolution: 0.5945552732596329
- Scale: 2247.138040666329
- Format: Mixed
- Compression Quality: 75.0
- Origin: X: -1.9549964486831754E7
Y: 2.2054949931446366E7
- Spatial Reference: PROJCS["NAD_1983_HARN_Albers",GEOGCS["GCS_North_American_1983_HARN",DATUM["D_North_American_1983_HARN",SPHEROID["GRS_1980",6378137.0,298.257222101]],PRIMEM["Greenwich",0.0],UNIT["Degree",0.0174532925199433]],PROJECTION["Albers"],PARAMETER["False_Easting",400000.0],PARAMETER["False_Northing",0.0],PARAMETER["Central_Meridian",-84.0],PARAMETER["Standard_Parallel_1",24.0],PARAMETER["Standard_Parallel_2",31.5],PARAMETER["Latitude_Of_Origin",24.0],UNIT["Meter",1.0]]
Initial Extent:
XMin: 492167.5629876881
YMin: 397821.7139394843
XMax: 558486.8218151313
YMax: 467048.1183593635
Spatial Reference: PROJCS["NAD_1983_HARN_Albers",GEOGCS["GCS_North_American_1983_HARN",DATUM["D_North_American_1983_HARN",SPHEROID["GRS_1980",6378137.0,298.257222101]],PRIMEM["Greenwich",0.0],UNIT["Degree",0.0174532925199433]],PROJECTION["Albers"],PARAMETER["False_Easting",400000.0],PARAMETER["False_Northing",0.0],PARAMETER["Central_Meridian",-84.0],PARAMETER["Standard_Parallel_1",24.0],PARAMETER["Standard_Parallel_2",31.5],PARAMETER["Latitude_Of_Origin",24.0],UNIT["Meter",1.0]]
Full Extent:
XMin: 506901.2367438104
YMin: 400968.36868584255
XMax: 543753.148059009
YMax: 463901.46361300536
Spatial Reference: PROJCS["NAD_1983_HARN_Albers",GEOGCS["GCS_North_American_1983_HARN",DATUM["D_North_American_1983_HARN",SPHEROID["GRS_1980",6378137.0,298.257222101]],PRIMEM["Greenwich",0.0],UNIT["Degree",0.0174532925199433]],PROJECTION["Albers"],PARAMETER["False_Easting",400000.0],PARAMETER["False_Northing",0.0],PARAMETER["Central_Meridian",-84.0],PARAMETER["Standard_Parallel_1",24.0],PARAMETER["Standard_Parallel_2",31.5],PARAMETER["Latitude_Of_Origin",24.0],UNIT["Meter",1.0]]
Units: esriMeters
Supported Image Format Types: PNG32,PNG24,PNG,JPG,DIB,TIFF,EMF,PS,PDF,GIF,SVG,SVGZ,BMP
Document Info:
Title: Map
Author:
Comments:
Subject:
Category:
Keywords:
AntialiasingMode: Fast
TextAntialiasingMode: Force
Supports Dynamic Layers: false
MaxRecordCount: 1000
MaxImageHeight: 4096
MaxImageWidth: 4096
Supported Query Formats: JSON, geoJSON, PBF
Supports Query Data Elements: true
Min Scale: 2.9453687726621705E8
Max Scale: 9204277.414569283
Supports Datum Transformation: true
Child Resources:
Info
Supported Operations:
Return Updates